BEGIN:VCALENDAR
VERSION:2.0
PRODID:-//Animal Care - ECPv6.15.14//NONSGML v1.0//EN
CALSCALE:GREGORIAN
METHOD:PUBLISH
X-ORIGINAL-URL:https://animalcare.sbcounty.gov
X-WR-CALDESC:Events for Animal Care
REFRESH-INTERVAL;VALUE=DURATION:PT1H
X-Robots-Tag:noindex
X-PUBLISHED-TTL:PT1H
BEGIN:VTIMEZONE
TZID:America/Los_Angeles
BEGIN:DAYLIGHT
TZOFFSETFROM:-0800
TZOFFSETTO:-0700
TZNAME:PDT
DTSTART:20250309T100000
END:DAYLIGHT
BEGIN:STANDARD
TZOFFSETFROM:-0700
TZOFFSETTO:-0800
TZNAME:PST
DTSTART:20251102T090000
END:STANDARD
BEGIN:DAYLIGHT
TZOFFSETFROM:-0800
TZOFFSETTO:-0700
TZNAME:PDT
DTSTART:20260308T100000
END:DAYLIGHT
BEGIN:STANDARD
TZOFFSETFROM:-0700
TZOFFSETTO:-0800
TZNAME:PST
DTSTART:20261101T090000
END:STANDARD
BEGIN:DAYLIGHT
TZOFFSETFROM:-0800
TZOFFSETTO:-0700
TZNAME:PDT
DTSTART:20270314T100000
END:DAYLIGHT
BEGIN:STANDARD
TZOFFSETFROM:-0700
TZOFFSETTO:-0800
TZNAME:PST
DTSTART:20271107T090000
END:STANDARD
END:VTIMEZONE
BEGIN:VEVENT
DTSTART;TZID=America/Los_Angeles:20260228T100000
DTEND;TZID=America/Los_Angeles:20260228T143000
DTSTAMP:20260420T065819
CREATED:20260114T181937Z
LAST-MODIFIED:20260114T183441Z
UID:10005260-1772272800-1772289000@animalcare.sbcounty.gov
SUMMARY:Fatherhood Summit: Pet Adoption Event
DESCRIPTION:San Bernardino County Animal Care is excited to join the Fatherhood Summit at Curtis Middle School with a special off-site pet adoption event. Attendees are invited to meet lovable\, adoptable pets and learn how they can make a life-changing difference by providing a forever home. This family-friendly celebration of fatherhood brings together fun activities\, valuable resources\, and meaningful community connections—made even more special with the joy of pet adoption.
URL:https://animalcare.sbcounty.gov/event/fatherhood-summit-pet-adoption-event/
LOCATION:Curtis Middle School\, 1050 N Del Rosa Dr\, San Bernardino\, CA\, 92410\, United States
CATEGORIES:Adoption Campaigns,Community Outreach Events
ATTACH;FMTTYPE=image/png:https://animalcare.sbcounty.gov/wp-content/uploads/sites/57/Health-Education.png
END:VEVENT
END:VCALENDAR