BEGIN:VCALENDAR
VERSION:2.0
PRODID:-//Animal Care - ECPv6.15.14//NONSGML v1.0//EN
CALSCALE:GREGORIAN
METHOD:PUBLISH
X-WR-CALNAME:Animal Care
X-ORIGINAL-URL:https://animalcare.sbcounty.gov
X-WR-CALDESC:Events for Animal Care
REFRESH-INTERVAL;VALUE=DURATION:PT1H
X-Robots-Tag:noindex
X-PUBLISHED-TTL:PT1H
BEGIN:VTIMEZONE
TZID:America/Los_Angeles
BEGIN:DAYLIGHT
TZOFFSETFROM:-0800
TZOFFSETTO:-0700
TZNAME:PDT
DTSTART:20250309T100000
END:DAYLIGHT
BEGIN:STANDARD
TZOFFSETFROM:-0700
TZOFFSETTO:-0800
TZNAME:PST
DTSTART:20251102T090000
END:STANDARD
BEGIN:DAYLIGHT
TZOFFSETFROM:-0800
TZOFFSETTO:-0700
TZNAME:PDT
DTSTART:20260308T100000
END:DAYLIGHT
BEGIN:STANDARD
TZOFFSETFROM:-0700
TZOFFSETTO:-0800
TZNAME:PST
DTSTART:20261101T090000
END:STANDARD
BEGIN:DAYLIGHT
TZOFFSETFROM:-0800
TZOFFSETTO:-0700
TZNAME:PDT
DTSTART:20270314T100000
END:DAYLIGHT
BEGIN:STANDARD
TZOFFSETFROM:-0700
TZOFFSETTO:-0800
TZNAME:PST
DTSTART:20271107T090000
END:STANDARD
END:VTIMEZONE
BEGIN:VEVENT
DTSTART;VALUE=DATE:20260526
DTEND;VALUE=DATE:20260527
DTSTAMP:20260423T013459
CREATED:20250102T203444Z
LAST-MODIFIED:20260423T002116Z
UID:10002678-1779753600-1779839999@animalcare.sbcounty.gov
SUMMARY:Free Spay and Neuter Event: TNVR Community Cats & Owned Pets
DESCRIPTION:San Bernardino County Animal Care is partnering with The PAW Mission to provide free spay and neuter services in unincorporated areas of San Bernardino County for eligible Trap\, Neuter\, Vaccinate\, and Return (TNVR) community cats and owned pets. \nQualifying pets will receive the following free services:\n• Spay/neuter surgery\n• Vaccinations\n• Ear-tipping of cats for TNVR identification \nThis event will be held on Tuesday\, May 26\, at Mojave Narrows Regional Park\, located at 18000 Yates Rd.\, Victorville. Registration opens Monday\, May 18\, at 12 p.m. at thepawmission.org.    \nA $20 refundable deposit is required for each appointment. \nTo qualify\, the residence address must be located within the San Bernardino County Animal Care service areas. View our service area map to check eligibility. \nSan Bernardino County Animal Care contract cities and incorporated cities are not eligible. Please contact your city directly to learn about the animal care programs and veterinary services available. \nTogether\, we can make a lasting impact on pet wellness and overpopulation. Thank you for being part of the solution!
URL:https://animalcare.sbcounty.gov/event/free-spay-and-neuter-event-owned-pets-trap-neuter-vaccinate-and-return-tnvr-community-cats-2/
LOCATION:Mojave Narrows Regional Park\, 18000 Yates Rd\, Victorville\, CA\, 92392\, United States
CATEGORIES:Free Spay/Neuter Events,TNVR Events
ATTACH;FMTTYPE=image/jpeg:https://animalcare.sbcounty.gov/wp-content/uploads/sites/57/TNVR-Owned-Pets-Thumbnail-Events.jpg
END:VEVENT
END:VCALENDAR