BEGIN:VCALENDAR
VERSION:2.0
PRODID:-//Animal Care - ECPv6.15.14//NONSGML v1.0//EN
CALSCALE:GREGORIAN
METHOD:PUBLISH
X-WR-CALNAME:Animal Care
X-ORIGINAL-URL:https://animalcare.sbcounty.gov
X-WR-CALDESC:Events for Animal Care
REFRESH-INTERVAL;VALUE=DURATION:PT1H
X-Robots-Tag:noindex
X-PUBLISHED-TTL:PT1H
BEGIN:VTIMEZONE
TZID:America/Los_Angeles
BEGIN:DAYLIGHT
TZOFFSETFROM:-0800
TZOFFSETTO:-0700
TZNAME:PDT
DTSTART:20250309T100000
END:DAYLIGHT
BEGIN:STANDARD
TZOFFSETFROM:-0700
TZOFFSETTO:-0800
TZNAME:PST
DTSTART:20251102T090000
END:STANDARD
BEGIN:DAYLIGHT
TZOFFSETFROM:-0800
TZOFFSETTO:-0700
TZNAME:PDT
DTSTART:20260308T100000
END:DAYLIGHT
BEGIN:STANDARD
TZOFFSETFROM:-0700
TZOFFSETTO:-0800
TZNAME:PST
DTSTART:20261101T090000
END:STANDARD
BEGIN:DAYLIGHT
TZOFFSETFROM:-0800
TZOFFSETTO:-0700
TZNAME:PDT
DTSTART:20270314T100000
END:DAYLIGHT
BEGIN:STANDARD
TZOFFSETFROM:-0700
TZOFFSETTO:-0800
TZNAME:PST
DTSTART:20271107T090000
END:STANDARD
END:VTIMEZONE
BEGIN:VEVENT
DTSTART;VALUE=DATE:20260531
DTEND;VALUE=DATE:20260601
DTSTAMP:20260422T113330
CREATED:20250102T202116Z
LAST-MODIFIED:20260420T225531Z
UID:10002675-1780185600-1780271999@animalcare.sbcounty.gov
SUMMARY:Free Spay and Neuter Event: TNVR Community Cats & Owned Pets
DESCRIPTION:We are partnering with The PAW Mission to provide free spay and neuter services in unincorporated areas of San Bernardino County for eligible Trap\, Neuter\, Vaccinate\, and Return (TNVR) community cats and owned pets. \nFor the community cats\, the trapping address must be located in the San Bernardino County unincorporated service areas.  For owned pets\, the owned pet must reside in the San Bernardino unincorporated County service areas. A limit of 4 owned pets per household may receive this service. \nView our service area map to see if the community cat or owned pet qualifies. Locations colored in “blue” and\n“brown” on the map are eligible for this program. San Bernardino County Animal Care contract cities are not eligible at this time. \nQualifying pets will receive the following free services: \n\nSpay/neuter surgery\nVaccinations\nEar-tipping of cats for TNVR identification.\n\nThis event will be held on Sunday\, May 31\, at the Mt. Baldy Fire Department\, located at 6736 Mt. Baldy Rd.\, Mount Baldy. Registration opens Monday\, May 25\, at 12 p.m at thepawmission.org. \nA $20 refundable deposit is required for each appointment.
URL:https://animalcare.sbcounty.gov/event/free-spay-and-neuter-event-owned-pets-trap-neuter-vaccinate-and-return-tnvr-community-cats/
LOCATION:Mount Baldy Fire Department\, 6736 Mt. Baldy Rd.\, Mount Baldy\, 91759\, United States
CATEGORIES:Free Spay/Neuter Events,TNVR Events
ATTACH;FMTTYPE=image/jpeg:https://animalcare.sbcounty.gov/wp-content/uploads/sites/57/TNVR-Owned-Pets-Thumbnail-Events.jpg
END:VEVENT
END:VCALENDAR