BEGIN:VCALENDAR
VERSION:2.0
PRODID:-//Animal Care - ECPv6.15.14//NONSGML v1.0//EN
CALSCALE:GREGORIAN
METHOD:PUBLISH
X-WR-CALNAME:Animal Care
X-ORIGINAL-URL:https://animalcare.sbcounty.gov
X-WR-CALDESC:Events for Animal Care
REFRESH-INTERVAL;VALUE=DURATION:PT1H
X-Robots-Tag:noindex
X-PUBLISHED-TTL:PT1H
BEGIN:VTIMEZONE
TZID:America/Los_Angeles
BEGIN:DAYLIGHT
TZOFFSETFROM:-0800
TZOFFSETTO:-0700
TZNAME:PDT
DTSTART:20250309T100000
END:DAYLIGHT
BEGIN:STANDARD
TZOFFSETFROM:-0700
TZOFFSETTO:-0800
TZNAME:PST
DTSTART:20251102T090000
END:STANDARD
BEGIN:DAYLIGHT
TZOFFSETFROM:-0800
TZOFFSETTO:-0700
TZNAME:PDT
DTSTART:20260308T100000
END:DAYLIGHT
BEGIN:STANDARD
TZOFFSETFROM:-0700
TZOFFSETTO:-0800
TZNAME:PST
DTSTART:20261101T090000
END:STANDARD
BEGIN:DAYLIGHT
TZOFFSETFROM:-0800
TZOFFSETTO:-0700
TZNAME:PDT
DTSTART:20270314T100000
END:DAYLIGHT
BEGIN:STANDARD
TZOFFSETFROM:-0700
TZOFFSETTO:-0800
TZNAME:PST
DTSTART:20271107T090000
END:STANDARD
END:VTIMEZONE
BEGIN:VEVENT
DTSTART;TZID=America/Los_Angeles:20260521T090000
DTEND;TZID=America/Los_Angeles:20260521T120000
DTSTAMP:20260420T224935
CREATED:20250929T225246Z
LAST-MODIFIED:20260413T235512Z
UID:10005241-1779354000-1779364800@animalcare.sbcounty.gov
SUMMARY:Animal Care Mobile Services: Licensing\, Vaccinations\, and Microchipping!
DESCRIPTION:Licensing\, Vaccinations\, and Microchipping!\nDon’t miss out on this opportunity—available while supplies last—for residents in the unincorporated areas of San Bernardino County! \nPlease enter your address in our service area map at animalcare.sbcounty.gov/serviceareas to see if your pet qualifies.  During the event\, please bring a photo ID to verify your residency. If your photo ID isn’t current\, a recent utility bill can also be used with your ID as proof of residence. Please ensure dogs are kept on a leash and cats are brought in individual carriers. Preregister now on the event webpage—complete your intake forms in advance. \nServices Offered\nServices Offered:\n• Free pet microchipping\n• Pet ownership resources\n• Dog licensing: To qualify for the discounted licensing price\, you will need to bring proof of your pet’s spay/neuter. Additionally\, proof of a previous rabies vaccine is required to receive a license. If your pet does not have proof of a rabies vaccine\, they may receive the vaccine at the event before obtaining the license.\n• Vaccinations: $10 each (FVRCP\, Rabies\, Bordetella\, DA2PP\, Leptospirosis) If you would like to receive a 3-year rabies vaccine instead of a 1-year vaccine\, you must provide proof of the previous rabies vaccination. \nPlease complete our intake forms before the event: \n\nEnglish Intake Form\nSpanish Intake Form
URL:https://animalcare.sbcounty.gov/event/animal-care-mobile-services-licensing-vaccinations-and-microchipping/
LOCATION:Baker Family Learning Center\, 2818 N Macy St\, San Bernardino\, CA\, 92407\, United States
CATEGORIES:Animal Care Mobile Services,Community Outreach Events
ATTACH;FMTTYPE=image/png:https://animalcare.sbcounty.gov/wp-content/uploads/sites/57/Owned-Pets-AC-Thumbnail-Events.png
END:VEVENT
END:VCALENDAR