BEGIN:VCALENDAR
VERSION:2.0
PRODID:-//Animal Care - ECPv6.15.14//NONSGML v1.0//EN
CALSCALE:GREGORIAN
METHOD:PUBLISH
X-ORIGINAL-URL:https://animalcare.sbcounty.gov
X-WR-CALDESC:Events for Animal Care
REFRESH-INTERVAL;VALUE=DURATION:PT1H
X-Robots-Tag:noindex
X-PUBLISHED-TTL:PT1H
BEGIN:VTIMEZONE
TZID:America/Los_Angeles
BEGIN:DAYLIGHT
TZOFFSETFROM:-0800
TZOFFSETTO:-0700
TZNAME:PDT
DTSTART:20250309T100000
END:DAYLIGHT
BEGIN:STANDARD
TZOFFSETFROM:-0700
TZOFFSETTO:-0800
TZNAME:PST
DTSTART:20251102T090000
END:STANDARD
BEGIN:DAYLIGHT
TZOFFSETFROM:-0800
TZOFFSETTO:-0700
TZNAME:PDT
DTSTART:20260308T100000
END:DAYLIGHT
BEGIN:STANDARD
TZOFFSETFROM:-0700
TZOFFSETTO:-0800
TZNAME:PST
DTSTART:20261101T090000
END:STANDARD
BEGIN:DAYLIGHT
TZOFFSETFROM:-0800
TZOFFSETTO:-0700
TZNAME:PDT
DTSTART:20270314T100000
END:DAYLIGHT
BEGIN:STANDARD
TZOFFSETFROM:-0700
TZOFFSETTO:-0800
TZNAME:PST
DTSTART:20271107T090000
END:STANDARD
END:VTIMEZONE
BEGIN:VEVENT
DTSTART;TZID=America/Los_Angeles:20260603T160000
DTEND;TZID=America/Los_Angeles:20260603T170000
DTSTAMP:20260425T032123
CREATED:20260211T173133Z
LAST-MODIFIED:20260211T173133Z
UID:10005367-1780502400-1780506000@animalcare.sbcounty.gov
SUMMARY:Telling Tails Reading Program
DESCRIPTION:San Bernardino County Animal Care has partnered with San Bernardino County Library to launch the Telling Tails Reading Program\, designed for children ages 6 to 17. This special program offers your child the opportunity to read to our adorable furry friends who are waiting for their forever homes. It’s a fun and rewarding way to provide enrichment for our pets while helping your child build confidence and improve their reading skills. \nFor more information and registration details\, visit the Telling Tails Reading webpage.
URL:https://animalcare.sbcounty.gov/event/telling-tails-reading-program-2/2026-06-03/
LOCATION:Devore Animal Shelter\, 19777 Shelter Way Devore\, San Bernardino\, CA\, 92407\, United States
CATEGORIES:Community Outreach Events
ATTACH;FMTTYPE=image/png:https://animalcare.sbcounty.gov/wp-content/uploads/sites/57/Telling-Tails-Thumbnail-Events.png
END:VEVENT
BEGIN:VEVENT
DTSTART;TZID=America/Los_Angeles:20260610T160000
DTEND;TZID=America/Los_Angeles:20260610T170000
DTSTAMP:20260425T032123
CREATED:20260211T173133Z
LAST-MODIFIED:20260211T173133Z
UID:10005370-1781107200-1781110800@animalcare.sbcounty.gov
SUMMARY:Telling Tails Reading Program
DESCRIPTION:San Bernardino County Animal Care has partnered with San Bernardino County Library to launch the Telling Tails Reading Program\, designed for children ages 6 to 17. This special program offers your child the opportunity to read to our adorable furry friends who are waiting for their forever homes. It’s a fun and rewarding way to provide enrichment for our pets while helping your child build confidence and improve their reading skills. \nFor more information and registration details\, visit the Telling Tails Reading webpage.
URL:https://animalcare.sbcounty.gov/event/telling-tails-reading-program-2/2026-06-10/
LOCATION:Devore Animal Shelter\, 19777 Shelter Way Devore\, San Bernardino\, CA\, 92407\, United States
CATEGORIES:Community Outreach Events
ATTACH;FMTTYPE=image/png:https://animalcare.sbcounty.gov/wp-content/uploads/sites/57/Telling-Tails-Thumbnail-Events.png
END:VEVENT
BEGIN:VEVENT
DTSTART;TZID=America/Los_Angeles:20260617T160000
DTEND;TZID=America/Los_Angeles:20260617T170000
DTSTAMP:20260425T032123
CREATED:20260211T173133Z
LAST-MODIFIED:20260211T173133Z
UID:10005373-1781712000-1781715600@animalcare.sbcounty.gov
SUMMARY:Telling Tails Reading Program
DESCRIPTION:San Bernardino County Animal Care has partnered with San Bernardino County Library to launch the Telling Tails Reading Program\, designed for children ages 6 to 17. This special program offers your child the opportunity to read to our adorable furry friends who are waiting for their forever homes. It’s a fun and rewarding way to provide enrichment for our pets while helping your child build confidence and improve their reading skills. \nFor more information and registration details\, visit the Telling Tails Reading webpage.
URL:https://animalcare.sbcounty.gov/event/telling-tails-reading-program-2/2026-06-17/
LOCATION:Devore Animal Shelter\, 19777 Shelter Way Devore\, San Bernardino\, CA\, 92407\, United States
CATEGORIES:Community Outreach Events
ATTACH;FMTTYPE=image/png:https://animalcare.sbcounty.gov/wp-content/uploads/sites/57/Telling-Tails-Thumbnail-Events.png
END:VEVENT
BEGIN:VEVENT
DTSTART;VALUE=DATE:20260619
DTEND;VALUE=DATE:20260620
DTSTAMP:20260425T032123
CREATED:20260116T175256Z
LAST-MODIFIED:20260116T175256Z
UID:10005281-1781827200-1781913599@animalcare.sbcounty.gov
SUMMARY:Reminder: Free Pet Adoptions
DESCRIPTION:Reminder: The San Bernardino County Board of Supervisors has allocated $30\,000 to cover pet adoption fees through June 30\, 2027\, or while funds last.\nThis funding helps remove financial barriers to adoption\, giving approximately 1\,700 pets the opportunity to find loving homes and easing the strain on local shelters. Open your heart and your home to a furry companion today! \nWhen you adopt a qualifying pet from Big Bear or Devore Animal Shelters\, each qualifying adoption includes spaying or neutering\, a microchip\, and age-appropriate vaccinations. Additionally\, all felines and canines are microchipped free of charge\, thanks to the generous donations from the Animals aRe First Fund (ARFF). Our meet-and-greet areas provide the opportunity to interact with our pets and find the perfect match for you and your family. \nPresent\, past\, and future adopters from San Bernardino County Animal Shelters qualify for MetLife pet insurance—learn more at Animals aRe First Fund (ARFF). \n* Adoption fees are waived for Veterans and for Seniors over the age of 65 for qualifying pets. If you are a Veteran\, please bring a valid driver’s license or any type of identification with the word “VETERAN” printed on it. \n\nView Pets
URL:https://animalcare.sbcounty.gov/event/reminder-free-pet-adoptions/2026-06-19/
LOCATION:Big Bear Animal Shelter\, 42080 North Shore Drive Big Bear City\, Big Bear\, CA\, 92314\, United States
CATEGORIES:Adoption Campaigns,Community Outreach Events
ATTACH;FMTTYPE=image/png:https://animalcare.sbcounty.gov/wp-content/uploads/sites/57/Adopt-Board.png
END:VEVENT
BEGIN:VEVENT
DTSTART;TZID=America/Los_Angeles:20260620T110000
DTEND;TZID=America/Los_Angeles:20260620T140000
DTSTAMP:20260425T032123
CREATED:20260422T175915Z
LAST-MODIFIED:20260423T164456Z
UID:10006526-1781953200-1781964000@animalcare.sbcounty.gov
SUMMARY:Petco Big Bear Adoption Event
DESCRIPTION:San Bernardino County Animal Care is partnering with the national nonprofit Petco Love to bring adoptable pets to Petco stores to find their forever homes. Thanks to the Animals aRe First Fund (ARFF)\, adoption fees are fully sponsored for this event at Petco in Big Bear. Each qualifying adoption includes spaying or neutering\, a microchip\, and age-appropriate vaccinations. This is the perfect opportunity to find your forever best friend!
URL:https://animalcare.sbcounty.gov/event/petco-big-bear-adoption-event-3/
LOCATION:Petco Big Bear\, 42150 Big Bear Blvd.\, Big Bear Lake\, CA\, 92315\, United States
CATEGORIES:Adoption Campaigns,Community Outreach Events
ATTACH;FMTTYPE=image/jpeg:https://animalcare.sbcounty.gov/wp-content/uploads/sites/57/Petco-Adoption-Event-Thumbnail.jpg
END:VEVENT
BEGIN:VEVENT
DTSTART;TZID=America/Los_Angeles:20260624T160000
DTEND;TZID=America/Los_Angeles:20260624T170000
DTSTAMP:20260425T032123
CREATED:20260211T173133Z
LAST-MODIFIED:20260211T173133Z
UID:10005376-1782316800-1782320400@animalcare.sbcounty.gov
SUMMARY:Telling Tails Reading Program
DESCRIPTION:San Bernardino County Animal Care has partnered with San Bernardino County Library to launch the Telling Tails Reading Program\, designed for children ages 6 to 17. This special program offers your child the opportunity to read to our adorable furry friends who are waiting for their forever homes. It’s a fun and rewarding way to provide enrichment for our pets while helping your child build confidence and improve their reading skills. \nFor more information and registration details\, visit the Telling Tails Reading webpage.
URL:https://animalcare.sbcounty.gov/event/telling-tails-reading-program-2/2026-06-24/
LOCATION:Devore Animal Shelter\, 19777 Shelter Way Devore\, San Bernardino\, CA\, 92407\, United States
CATEGORIES:Community Outreach Events
ATTACH;FMTTYPE=image/png:https://animalcare.sbcounty.gov/wp-content/uploads/sites/57/Telling-Tails-Thumbnail-Events.png
END:VEVENT
BEGIN:VEVENT
DTSTART;TZID=America/Los_Angeles:20260627T130000
DTEND;TZID=America/Los_Angeles:20260627T150000
DTSTAMP:20260425T032123
CREATED:20260212T185746Z
LAST-MODIFIED:20260212T185746Z
UID:10005403-1782565200-1782572400@animalcare.sbcounty.gov
SUMMARY:PetSmart Charities Adoption Event
DESCRIPTION:Hey there! Are you ready to meet your forever best friend? Join us for a free pet adoption event at PetSmart in Fontana! \nSan Bernardino County Animal Care is teaming up with PetSmart Charities to help shelter pets find their forever homes. \nAdoption fees are currently waived for qualifying pets! Each qualifying adoption includes spaying or neutering\, a microchip\, and age-appropriate vaccinations. \nTo help ease your transition to pet parenthood\, MetLife Pet Insurance offers 30 days of complimentary pet insurance. \nOn behalf of our pets\, we look forward to seeing you there!
URL:https://animalcare.sbcounty.gov/event/petsmart-charities-adoption-event-3/
LOCATION:Fontana PetSmart\, 15042 Summit Ave.\, Fontana\, CA\, 92336\, United States
CATEGORIES:Adoption Campaigns,Community Outreach Events
ATTACH;FMTTYPE=image/png:https://animalcare.sbcounty.gov/wp-content/uploads/sites/57/Health-Education.png
END:VEVENT
END:VCALENDAR